BEGIN:VCALENDAR
VERSION:2.0
PRODID:-//hacksw/handcal//NONSGML v1.0//EN
BEGIN:VEVENT
SUMMARY:reprise des cours a Marcy
UID:e6a40f47-2a6a-4609-bda6-7bd54a40fc86
DTSTART:20260223T230000Z
DTEND:20260224T230000Z
LOCATION:Localisation   
CATEGORIES:Sportif
STATUS:
URL;VALUE=URI:https://qigong.sportsregions.fr/evenements/2026/02/24/reprise-des-cours-a-marcy-2417155
END:VEVENT
END:VCALENDAR
